Workbook

Sheet Single_contract
F2: Please input yellow cells
F5: 3 | H5: years | L5: Car price | Q5: 20400 | S5: Discount Customer | V5: 0.18
F6: 20000 | H6: kilometres per year | L6: Equipment | Q6: 0 | S6: Discount Dealer
F7: 0.35 | H7: Residual value | L7: Price | Q7: =+Q5+Q6 -> 20400 | S7: Residual Value | V7: 0.54
B9: Total per month - Portfolio average | I9: Revenue | J9: Cost | K9: Margin | N9: Total per year - Portfolio average | U9: Revenue | V9: Cost | W9: Margin
D11: 1) Leasing | I11: =+I12+I24 -> 342.66667 | J11: =+J12+J24 -> 310.14007 | K11: =+I11-J11 -> 32.5266 | P11: 1) Leasing | U11: =+I11*12 -> 4112 | V11: =+J11*12 -> 3721.6808 | W11: =+U11-V11 -> 390.3192
E12: Service | I12: =+SUM(I13:I22) -> 50 | J12: =+SUM(J13:J22) -> 25 | K12: =+SUM(I13:I22)-SUM(J13:J22) -> 25 | Q12: Service | U12: =+I12*12 -> 600 | V12: =+J12*12 -> 300 | W12: =+U12-V12 -> 300
F13: Insurance | I13: 10 | J13: 5 | R13: Insurance | U13: =+I13*12 -> 120
F14: Maintenance (express) | I14: 10 | J14: 5 | R14: Maintenance | U14: =+I14*12 -> 120
F15: Tyre | I15: 10 | J15: 5 | R15: Tyre | U15: =+I15*12 -> 120
F16: Fuel | I16: 10 | J16: 5 | R16: Fuel | U16: =+I16*12 -> 120
F17: Road Assistance (Toll) | I17: 10 | J17: 5 | R17: Road Assistance | U17: =+I17*12 -> 120 | V17: =+J17*12 -> 60
F18: Relief Vehicle | R18: Relief Vehicle
F19: Mobility | R19: Mobility
F20: Parking | R20: =+F20 -> Parking | U20: =+I20*12 -> 0
F21: Admin Fee | R21: Admin Fee | U21: =+I21*12 -> 0
F22: Other (washing) | R22: Other | U22: =+I22*12 -> 0
E24: Finance | I24: =+SUM(I25:I28) -> 292.66667 | J24: =+SUM(J25:J28) -> 285.14007 | K24: =+I25+I26+I27+I28-J25-J26-J27-J28 -> 7.5266 | Q24: Finance | U24: =+SUM(U25:U28) -> 3512 | V24: =+SUM(V25:V28) -> 3421.6808 | W24: =+U24-V24 -> 90.3192
F25: Depreciation (installment=depreciation) | I25: =+Q5*(1-V7)/(F5*12) -> 260.66667 | J25: =+I25 -> 260.66667 | R25: Depreciation | U25: =+I25*12 -> 3128 | V25: =+J25*12 -> 3128
F26: Interest | G26: 0.0385 | I26: =ROUND(+Q7*(1-V5)*G26*F5/60,0) -> 32 | R26: Interest | S26: 0.0385 | U26: =+I26*12 -> 384
F27: Funding | G27: 0.0185 | J27: =+Q7*(1-V5)*G27*F5/60 -> 15.4734 | R27: Funding | S27: 0.0185 | U27: =+I27*12 -> 0 | V27: =+J27*12 -> 185.6808
F28: Provisioning | G28: 0.011 | J28: =ROUND((+Q7*(1-V5)*F5/60*G28),0) -> 9 | R28: Provisioning | S28: 0.011 | U28: =+I28*12 -> 0 | V28: =+J28*12 -> 108
D34: 4) Rebate | K34: =+I34-J34 -> 0 | P34: 4) Rebate | W34: =+U34-V34 -> 0
U35: =+I35*12 -> 0 | V35: =+J35*12 -> 0
B36: Gross Margin | I36: =I11 -> 342.66667 | J36: =J11 -> 310.14007 | K36: =K11 -> 32.5266 | N36: Gross Margin | U36: =+I36*12 -> 4112 | V36: =+J36*12 -> 3721.6808 | W36: =+W34+W32+W30+W11 -> 390.3192
C38: Fixed Cost | J38: 352 | K38: =+J38 -> 352 | O38: Fixed Cost | U38: =+I38*12 -> 0 | V38: =+J38*12 -> 4224
C39: One time Effect | O39: One time Effect
B40: Profit | I40: =+I36+I38 -> 342.66667 | J40: =+J36+J38 -> 662.14007 | K40: =+K36-K38 -> -319.4734 | N40: Profit | U40: =+I40*12 -> 4112 | V40: =+J40*12 -> 7945.6808 | W40: =+W36+W38 -> 390.3192
I42: =+ROUND(I40*$H$3,0) -> 0 | J42: =+ROUND(J40*$H$3,0) -> 0 | K42: =+ROUND(K40*$H$3,0) -> 0 | U42: =+ROUND(U40*$H$3,0) -> 0 | V42: =+ROUND(V40*$H$3,0) -> 0 | W42: =+ROUND(W40*$H$3,0) -> 0
F47: 3 | H47: years | L47: Car price | Q47: 20400 | S47: Discount Customer | V47: 0.18
F48: 20000 | H48: kilometres per year | L48: Equipment | Q48: 0 | S48: Discount Dealer
F49: 0.35 | H49: Residual value | L49: Price | Q49: =+Q47+Q48 -> 20400 | S49: Residual Value | V49: 0.54
B51: Total per month - Corolla - same contract and service as competitor benchmark | Q51: Competitor Benchmark (Toyota with independent FSL + key competitor with captive FSL)
I52: Revenue | J52: Cost | K52: Margin
R53: Toyota | S53: Comp 1 | T53: Comp 2 | U53: Comp 3
D54: 1) Leasing | I54: =+I55+I67 -> 342.66667 | J54: =+J55+J67 -> 310.14007 | K54: =+I54-J54 -> 32.5266 | Q54: FSL Company
E55: Service | I55: =+SUM(I56:I65) -> 50 | J55: =+SUM(J56:J65) -> 25 | K55: =+SUM(I56:I65)-SUM(J56:J65) -> 25 | Q55: Model
F56: Insurance | I56: 10 | J56: 5 | Q56: Version
F57: Maintenance (express) | I57: 10 | J57: 5 | Q57: List Price
F58: Tyre | I58: 10 | J58: 5 | Q58: Rate (monthly)
...

Sheet Business_Plan
D2: Please input yellow cells
B5: KINTO OnePlan
H7: Fiscal Year ending | I7: Plan Y1 | J7: Plan Y2 | K7: Plan Y3 | L7: Plan Y4 | M7: Plan Y5
I8: 31.03. | J8: 31.03. | K8: 31.03. | L8: 31.03. | M8: 31.03.
C9: New Sales Volume
D11: Market and Volume | E11: Total Market (PC&LCV Sales) | H11: Units | I11: 175000 | J11: 167500 | K11: 192500 | L11: 200250 | M11: 150750 | N11: Market + NMSC volumes (all PC + LCV)
E12: FSL Market Volumes | H12: Units | I12: 30000 | J12: 30000 | K12: 30000 | L12: 30000 | M12: 30000
E13: NMSC Sales Toyota + Lexus | H13: Units | I13: 84000 | J13: 84000 | K13: 84000 | L13: 84000 | M13: 84000
E14: Financing/ Leasing volume | H14: Units | I14: 42000 | J14: 42000 | K14: 42000 | L14: 42000 | M14: 42000 | N14: TFS Current volumes
E15: Loan Volume | H15: Units | J15: 18000 | K15: 18000 | L15: 18000 | M15: 18000
E16: Total Leasing Volume | H16: Units | J16: =+J14-J15 -> 24000 | K16: =+K14-K15 -> 24000 | L16: =+L14-L15 -> 24000 | M16: =+M14-M15 -> 24000
E17: Leasing non-private Customer volume | H17: Units | J17: =+J16*0.7 -> 16800 | K17: =+K16*0.7 -> 16800 | L17: =+L16*0.7 -> 16800 | M17: =+M16*0.7 -> 16800
E18: Leasing private customer volume | H18: Units | J18: =J16*0.3 -> 7200 | K18: =K16*0.3 -> 7200 | L18: =L16*0.3 -> 7200 | M18: =M16*0.3 -> 7200
E19: FSL Market -> New contracts | H19: Units | I19: 12000 | J19: 12000 | K19: 12000 | L19: 12000 | M19: 12000 | N19: KINTO One Volumes
E20: KINTO One FSL Market Share | I20: =I19/I12 -> 0.4 | J20: =J19/J12 -> 0.4 | K20: =K19/K12 -> 0.4 | L20: =L19/L12 -> 0.4 | M20: =M19/M12 -> 0.4
E21: KINTO One NMSC Penetration | I21: =I19/I13 -> 0.14285714 | J21: =J19/J13 -> 0.14285714 | K21: =K19/K13 -> 0.14285714 | L21: =L19/L13 -> 0.14285714 | M21: =M19/M13 -> 0.14285714
C24: Early termination rate | I24: 0.05 | J24: 0.05 | K24: 0.05 | L24: 0.05 | M24: 0.05
D26: UIO Calculation | E26: Year 1 | F26: Year 2 | G26: Year 3 | H26: Year 4 | I26: Year 5
D27: A.New Sales | E27: =+I19 -> 12000 | F27: =+J19 -> 12000 | G27: =+K19 -> 12000 | H27: =+L19 -> 12000 | I27: =+M19 -> 12000
D28: B. Early Termination | E28: =ROUND(+E27*I24,0) -> 600 | F28: =ROUND(+F27*J24,0) -> 600 | G28: =ROUND(+G27*K24,0) -> 600 | H28: =ROUND(+H27*L24,0) -> 600 | I28: =ROUND(+I27*M24,0) -> 600
D29: C. New Volume | E29: =+E27-E28 -> 11400 | F29: =+F27-F28 -> 11400 | G29: =+G27-G28 -> 11400 | H29: =+H27-H28 -> 11400 | I29: =+I27-I28 -> 11400
D30: D. Defleeting | H30: =-E29 -> -11400 | I30: =-F29 -> -11400
C32: Units in Operation | I32: =+E29 -> 11400 | J32: =+E29+F29 -> 22800 | K32: =+J32+G29 -> 34200 | L32: =+K32+H30+H29 -> 34200 | M32: =+L32+I29+I30 -> 34200
D35: Margin | H35: k | I35: =ROUND(+Single_contract!$K$24*12*I$32*0.5/1000,0) -> 515 | J35: =ROUND(+Single_contract!$K$24*12*J32*0.5/1000,0) -> 1030 | K35: =ROUND(+Single_contract!$K$24*12*K32*0.5/1000,0) -> 1544 | L35: =ROUND(+Single_contract!$K$24*12*L32*0.5/1000,0) -> 1544 | M35: =ROUND(+Single_contract!$K$24*12*M32*0.5/1000,0) -> 1544
D36: Insurance | H36: k
D37: Maintenance (express) | H37: k
D38: Tyre | H38: k
D39: Fuel | H39: k
D40: Road Assistance (Toll) | H40: k
D41: Relief Vehicle | H41: k
D42: Mobility | H42: k
D43: Parking | H43: k
D44: Admin Fee | H44: k
D45: Other (washing) | H45: k
C47: Gross Profit | H47: k | I47: =+SUM(I35:I46) -> 515 | J47: =+SUM(J35:J46) -> 1030 | K47: =+SUM(K35:K46) -> 1544 | L47: =+SUM(L35:L46) -> 1544 | M47: =+SUM(M35:M46) -> 1544
C51: Cost Structure
C53: Employee costs
D54: FTE | F54: Growth rate | G54: Inflation rate | I54: 1 | J54: 1 | K54: 1 | L54: 1 | M54: 1
D55: Salary per year | E55: 60000 | F55: 0.05 | G55: 0.02 | H55: k | I55: =+E55/1000 -> 60 | J55: =+$F$55*I55+I55+G55*$G$55 -> 63.0004 | K55: =+J55*(F55+G55)+J55 -> 67.410428 | L55: =+$F$55*K55+K55+I55*$G$55 -> 71.980949 | M55: =+$F$55*L55+L55+J55*$G$55 -> 76.840005
D56: other opex costs
...
